Workbook
Name DailyEvents: DRUCKVERSION!$C$7:$U$10,DRUCKVERSION!$C$12:$U$15,DRUCKVERSION!$C$17:$U$20,DRUCKVERSION!$C$22:$U$25,DRUCKVERSION!$C$27:$U$30,DRUCKVERSION!$C$32:$F$35
Name DailyEvents: KALENDER!$C$7:$U$10,KALENDER!$C$12:$U$15,KALENDER!$C$17:$U$20,KALENDER!$C$22:$U$25,KALENDER!$C$27:$U$30,KALENDER!$C$32:$F$35
Name Datenschnitt_MONAT: #N/A
Name Datenschnitt_TAG: #N/A
Name MonthNum: DRUCKVERSION!$C$3
Name MonthNum: KALENDER!$C$3
Name MonthView: KALENDER!$C$4:$U$35
Name StartDatum: DRUCKVERSION!$F$3
Name StartDatum: KALENDER!$F$3
Name TabellenzeileStart: ROW(tblEvents[[#Headers],[DATUM]])
Name TabellenzeileStart: ROW(tblEvents[[#Headers],[DATUM]])
Name Termine: tblEvents[DATUM]
Name Termine: tblEvents[DATUM]
Name Veranstaltungen: tblEvents[NAME DER VERANSTALTUNG]
Name Veranstaltungen: tblEvents[NAME DER VERANSTALTUNG]
Name ViewMonth: KALENDER!$F$2
Name ViewYear: KALENDER!$C$2

Sheet VERANSTALTUNGEN
B2: MONATLICHER VERANSTALTUNGSPLANER
B3: FÜR DIE GEMEINDEARBEIT
B8: DATUM | C8: TAG | D8: MONAT | E8: NAME DER VERANSTALTUNG
B9: 42552 | C9: =IF(ISBLANK(tblEvents[[#This Row],[DATUM]]),"",UPPER(TEXT(tblEvents[[#This Row],[DATUM]],"TTT"))) -> FR | D9: =IF(ISBLANK(tblEvents[[#This Row],[DATUM]]),"",UPPER(TEXT(tblEvents[[#This Row],[DATUM]],"MMM"))) -> JUL | E9: Gemeindegarten
B10: 42552 | C10: =IF(ISBLANK(tblEvents[[#This Row],[DATUM]]),"",UPPER(TEXT(tblEvents[[#This Row],[DATUM]],"TTT"))) -> FR | D10: =IF(ISBLANK(tblEvents[[#This Row],[DATUM]]),"",UPPER(TEXT(tblEvents[[#This Row],[DATUM]],"MMM"))) -> JUL | E10: Rathaus
B11: 42553 | C11: =IF(ISBLANK(tblEvents[[#This Row],[DATUM]]),"",UPPER(TEXT(tblEvents[[#This Row],[DATUM]],"TTT"))) -> SA | D11: =IF(ISBLANK(tblEvents[[#This Row],[DATUM]]),"",UPPER(TEXT(tblEvents[[#This Row],[DATUM]],"MMM"))) -> JUL | E11: Gemeindegarten
B12: 42554 | C12: =IF(ISBLANK(tblEvents[[#This Row],[DATUM]]),"",UPPER(TEXT(tblEvents[[#This Row],[DATUM]],"TTT"))) -> SO | D12: =IF(ISBLANK(tblEvents[[#This Row],[DATUM]]),"",UPPER(TEXT(tblEvents[[#This Row],[DATUM]],"MMM"))) -> JUL | E12: Filmnacht im Park
B13: 42559 | C13: =IF(ISBLANK(tblEvents[[#This Row],[DATUM]]),"",UPPER(TEXT(tblEvents[[#This Row],[DATUM]],"TTT"))) -> FR | D13: =IF(ISBLANK(tblEvents[[#This Row],[DATUM]]),"",UPPER(TEXT(tblEvents[[#This Row],[DATUM]],"MMM"))) -> JUL | E13: Rathaus
B14: 42562 | C14: =IF(ISBLANK(tblEvents[[#This Row],[DATUM]]),"",UPPER(TEXT(tblEvents[[#This Row],[DATUM]],"TTT"))) -> MO | D14: =IF(ISBLANK(tblEvents[[#This Row],[DATUM]]),"",UPPER(TEXT(tblEvents[[#This Row],[DATUM]],"MMM"))) -> JUL | E14: Treffen der Handelskammer
B15: 42563 | C15: =IF(ISBLANK(tblEvents[[#This Row],[DATUM]]),"",UPPER(TEXT(tblEvents[[#This Row],[DATUM]],"TTT"))) -> DI | D15: =IF(ISBLANK(tblEvents[[#This Row],[DATUM]]),"",UPPER(TEXT(tblEvents[[#This Row],[DATUM]],"MMM"))) -> JUL | E15: Antiquitätenmesse
B16: 42565 | C16: =IF(ISBLANK(tblEvents[[#This Row],[DATUM]]),"",UPPER(TEXT(tblEvents[[#This Row],[DATUM]],"TTT"))) -> DO | D16: =IF(ISBLANK(tblEvents[[#This Row],[DATUM]]),"",UPPER(TEXT(tblEvents[[#This Row],[DATUM]],"MMM"))) -> JUL | E16: Gemeinde-Workshop
B17: 42566 | C17: =IF(ISBLANK(tblEvents[[#This Row],[DATUM]]),"",UPPER(TEXT(tblEvents[[#This Row],[DATUM]],"TTT"))) -> FR | D17: =IF(ISBLANK(tblEvents[[#This Row],[DATUM]]),"",UPPER(TEXT(tblEvents[[#This Row],[DATUM]],"MMM"))) -> JUL | E17: Rathaus
B18: 42570 | C18: =IF(ISBLANK(tblEvents[[#This Row],[DATUM]]),"",UPPER(TEXT(tblEvents[[#This Row],[DATUM]],"TTT"))) -> DI | D18: =IF(ISBLANK(tblEvents[[#This Row],[DATUM]]),"",UPPER(TEXT(tblEvents[[#This Row],[DATUM]],"MMM"))) -> JUL | E18: Workshop zur strategischen Planung
B19: 42571 | C19: =IF(ISBLANK(tblEvents[[#This Row],[DATUM]]),"",UPPER(TEXT(tblEvents[[#This Row],[DATUM]],"TTT"))) -> MI | D19: =IF(ISBLANK(tblEvents[[#This Row],[DATUM]]),"",UPPER(TEXT(tblEvents[[#This Row],[DATUM]],"MMM"))) -> JUL | E19: Parksäuberung
B20: 42573 | C20: =IF(ISBLANK(tblEvents[[#This Row],[DATUM]]),"",UPPER(TEXT(tblEvents[[#This Row],[DATUM]],"TTT"))) -> FR | D20: =IF(ISBLANK(tblEvents[[#This Row],[DATUM]]),"",UPPER(TEXT(tblEvents[[#This Row],[DATUM]],"MMM"))) -> JUL | E20: Rathaus
... B38: 42888 | C38: =IF(ISBLANK(tblEvents[[#This Row],[DATUM]]),"",UPPER(TEXT(tblEvents[[#This Row],[DATUM]],"TTT"))) -> FR | D38: =IF(ISBLANK(tblEvents[[#This Row],[DATUM]]),"",UPPER(TEXT(tblEvents[[#This Row],[DATUM]],"MMM"))) -> JUN | E38: Rathaus

Sheet KALENDER
C2: 2024 | F2: =LOOKUP(MonthNum,tblMonths[NUMMER],tblMonths[MONAT]) -> OKTOBER
C3: 10 | F3: =DATE(ViewYear,MonthNum,1) -> 45566 | I3: =WEEKDAY(StartDatum) -> 3
C4: MO | F4: DI | I4: MI | L4: DO | O4: FR | R4: SA | U4: SO
C6: =StartDatum-(WEEKDAY(StartDatum)-2)+{0;1;2;3;4;5}*7 +{1,2,3,4,5,6,7}-3+COLUMN(B1) -> 45565 | F6: =StartDatum-(WEEKDAY(StartDatum)-2)+{0;1;2;3;4;5}*7 +{1,2,3,4,5,6,7}-3+COLUMN(C1) -> 45566 | I6: =StartDatum-(WEEKDAY(StartDatum)-2)+{0;1;2;3;4;5}*7 +{1,2,3,4,5,6,7}-3+COLUMN(D1) -> 45567 | L6: =StartDatum-(WEEKDAY(StartDatum)-2)+{0;1;2;3;4;5}*7 +{1,2,3,4,5,6,7}-3+COLUMN(E1) -> 45568 | O6: =StartDatum-(WEEKDAY(StartDatum)-2)+{0;1;2;3;4;5}*7 +{1,2,3,4,5,6,7}-3+COLUMN(F1) -> 45569 | R6: =StartDatum-(WEEKDAY(StartDatum)-2)+{0;1;2;3;4;5}*7 +{1,2,3,4,5,6,7}-3+COLUMN(G1) -> 45570 | U6: =StartDatum-(WEEKDAY(StartDatum)-2)+{0;1;2;3;4;5}*7 +{1,2,3,4,5,6,7}-3+COLUMN(H1) -> 45571
F7: {=IFERROR(INDEX(tblEvents[],SMALL(IF(Termine=F$21,ROW(Termine)),ROW(#REF!))-TabellenzeileStart,4),"")} | G7: {=IFERROR(INDEX(tblEvents[],SMALL(IF(Termine=G$21,ROW(Termine)),ROW(#REF!))-TabellenzeileStart,4),"")} | I7: {=IFERROR(INDEX(tblEvents[],SMALL(IF(Termine=I$6,ROW(Termine)),ROW(1:1))-TabellenzeileStart,4),"")} | L7: {=IFERROR(INDEX(tblEvents[],SMALL(IF(Termine=L$6,ROW(Termine)),ROW(1:1))-TabellenzeileStart,4),"")} | R7: {=IFERROR(INDEX(tblEvents[],SMALL(IF(Termine=R$6,ROW(Termine)),ROW(1:1))-TabellenzeileStart,4),"")} | U7: {=IFERROR(INDEX(tblEvents[],SMALL(IF(Termine=U$6,ROW(Termine)),ROW(1:1))-TabellenzeileStart,4),"")}
F8: {=IFERROR(INDEX(tblEvents[],SMALL(IF(Termine=F$6,ROW(Termine)),ROW(2:2))-TabellenzeileStart,4),"")} | I8: {=IFERROR(INDEX(tblEvents[],SMALL(IF(Termine=I$6,ROW(Termine)),ROW(2:2))-TabellenzeileStart,4),"")} | L8: {=IFERROR(INDEX(tblEvents[],SMALL(IF(Termine=L$6,ROW(Termine)),ROW(2:2))-TabellenzeileStart,4),"")} | O8: {=IFERROR(INDEX(tblEvents[],SMALL(IF(Termine=O$6,ROW(Termine)),ROW(2:2))-TabellenzeileStart,4),"")} | R8: {=IFERROR(INDEX(tblEvents[],SMALL(IF(Termine=R$6,ROW(Termine)),ROW(2:2))-TabellenzeileStart,4),"")} | U8: {=IFERROR(INDEX(tblEvents[],SMALL(IF(Termine=U$6,ROW(Termine)),ROW(2:2))-TabellenzeileStart,4),"")}
F9: {=IFERROR(INDEX(tblEvents[],SMALL(IF(Termine=F$6,ROW(Termine)),ROW(3:3))-TabellenzeileStart,4),"")} | I9: {=IFERROR(INDEX(tblEvents[],SMALL(IF(Termine=I$6,ROW(Termine)),ROW(3:3))-TabellenzeileStart,4),"")} | L9: {=IFERROR(INDEX(tblEvents[],SMALL(IF(Termine=L$6,ROW(Termine)),ROW(3:3))-TabellenzeileStart,4),"")} | O9: {=IFERROR(INDEX(tblEvents[],SMALL(IF(Termine=O$6,ROW(Termine)),ROW(3:3))-TabellenzeileStart,4),"")} | R9: {=IFERROR(INDEX(tblEvents[],SMALL(IF(Termine=R$6,ROW(Termine)),ROW(3:3))-TabellenzeileStart,4),"")} | U9: {=IFERROR(INDEX(tblEvents[],SMALL(IF(Termine=U$6,ROW(Termine)),ROW(3:3))-TabellenzeileStart,4),"")}
A10: B | F10: {=IFERROR(INDEX(tblEvents[],SMALL(IF(Termine=F$6,ROW(Termine)),ROW(4:4))-TabellenzeileStart,4),"")} | I10: {=IFERROR(INDEX(tblEvents[],SMALL(IF(Termine=I$6,ROW(Termine)),ROW(4:4))-TabellenzeileStart,4),"")} | L10: {=IFERROR(INDEX(tblEvents[],SMALL(IF(Termine=L$6,ROW(Termine)),ROW(4:4))-TabellenzeileStart,4),"")} | R10: {=IFERROR(INDEX(tblEvents[],SMALL(IF(Termine=R$6,ROW(Termine)),ROW(4:4))-TabellenzeileStart,4),"")} | U10: {=IFERROR(INDEX(tblEvents[],SMALL(IF(Termine=U$6,ROW(Termine)),ROW(4:4))-TabellenzeileStart,4),"")}
C11: =U6+1 -> 45572 | F11: =C11+1 -> 45573 | I11: =F11+1 -> 45574 | L11: =I11+1 -> 45575 | O11: =L11+1 -> 45576 | R11: =O11+1 -> 45577 | U11: =R11+1 -> 45578
C12: Mittagsmeditation | F12: {=IFERROR(INDEX(tblEvents[],SMALL(IF(Termine=F$21,ROW(Termine)),ROW(#REF!))-TabellenzeileStart,4),"")} | R12: {=IFERROR(INDEX(tblEvents[],SMALL(IF(Termine=R$11,ROW(Termine)),ROW(1:1))-TabellenzeileStart,4),"")} | U12: {=IFERROR(INDEX(tblEvents[],SMALL(IF(Termine=U$11,ROW(Termine)),ROW(1:1))-TabellenzeileStart,4),"")}
L13: {=IFERROR(INDEX(tblEvents[],SMALL(IF(Termine=L$11,ROW(Termine)),ROW(2:2))-TabellenzeileStart,4),"")} | O13: {=IFERROR(INDEX(tblEvents[],SMALL(IF(Termine=O$6,ROW(Termine)),ROW(7:7))-TabellenzeileStart,4),"")} | R13: {=IFERROR(INDEX(tblEvents[],SMALL(IF(Termine=R$11,ROW(Termine)),ROW(2:2))-TabellenzeileStart,4),"")} | U13: {=IFERROR(INDEX(tblEvents[],SMALL(IF(Termine=U$11,ROW(Termine)),ROW(2:2))-TabellenzeileStart,4),"")}
C14: {=IFERROR(INDEX(tblEvents[],SMALL(IF(Termine=C$11,ROW(Termine)),ROW(3:3))-TabellenzeileStart,4),"")} | I14: {=IFERROR(INDEX(tblEvents[],SMALL(IF(Termine=I$11,ROW(Termine)),ROW(3:3))-TabellenzeileStart,4),"")} | L14: {=IFERROR(INDEX(tblEvents[],SMALL(IF(Termine=L$11,ROW(Termine)),ROW(3:3))-TabellenzeileStart,4),"")} | R14: {=IFERROR(INDEX(tblEvents[],SMALL(IF(Termine=R$11,ROW(Termine)),ROW(3:3))-TabellenzeileStart,4),"")} | U14: {=IFERROR(INDEX(tblEvents[],SMALL(IF(Termine=U$11,ROW(Termine)),ROW(3:3))-TabellenzeileStart,4),"")}
C15: {=IFERROR(INDEX(tblEvents[],SMALL(IF(Termine=C$11,ROW(Termine)),ROW(4:4))-TabellenzeileStart,4),"")} | F15: {=IFERROR(INDEX(tblEvents[],SMALL(IF(Termine=F$11,ROW(Termine)),ROW(4:4))-TabellenzeileStart,4),"")} | I15: {=IFERROR(INDEX(tblEvents[],SMALL(IF(Termine=I$11,ROW(Termine)),ROW(4:4))-TabellenzeileStart,4),"")} | L15: {=IFERROR(INDEX(tblEvents[],SMALL(IF(Termine=L$11,ROW(Termine)),ROW(4:4))-TabellenzeileStart,4),"")} | R15: {=IFERROR(INDEX(tblEvents[],SMALL(IF(Termine=R$11,ROW(Termine)),ROW(4:4))-TabellenzeileStart,4),"")} | U15: {=IFERROR(INDEX(tblEvents[],SMALL(IF(Termine=U$11,ROW(Termine)),ROW(4:4))-TabellenzeileStart,4),"")}
C16: =U11+1 -> 45579 | F16: =C16+1 -> 45580 | I16: =F16+1 -> 45581 | L16: =I16+1 -> 45582 | O16: =L16+1 -> 45583 | R16: =O16+1 -> 45584 | U16: =R16+1 -> 45585
C17: Mittagsmeditation | F17: {=IFERROR(INDEX(tblEvents[],SMALL(IF(Termine=F$21,ROW(Termine)),ROW(#REF!))-TabellenzeileStart,4),"")} | I17: orte -? | L17: {=IFERROR(INDEX(tblEvents[],SMALL(IF(Termine=L$16,ROW(Termine)),ROW(1:1))-TabellenzeileStart,4),"")} | O17: {=IFERROR(INDEX(tblEvents[],SMALL(IF(Termine=O$6,ROW(Termine)),ROW(11:11))-TabellenzeileStart,4),"")} | R17: {=IFERROR(INDEX(tblEvents[],SMALL(IF(Termine=R$16,ROW(Termine)),ROW(1:1))-TabellenzeileStart,4),"")} | U17: {=IFERROR(INDEX(tblEvents[],SMALL(IF(Termine=U$16,ROW(Termine)),ROW(1:1))-TabellenzeileStart,4),"")}
F18: {=IFERROR(INDEX(tblEvents[],SMALL(IF(Termine=F$16,ROW(Termine)),ROW(2:2))-TabellenzeileStart,4),"")} | I18: {=IFERROR(INDEX(tblEvents[],SMALL(IF(Termine=I$16,ROW(Termine)),ROW(2:2))-TabellenzeileStart,4),"")} | L18: {=IFERROR(INDEX(tblEvents[],SMALL(IF(Termine=L$16,ROW(Termine)),ROW(2:2))-TabellenzeileStart,4),"")} | R18: {=IFERROR(INDEX(tblEvents[],SMALL(IF(Termine=R$16,ROW(Termine)),ROW(2:2))-TabellenzeileStart,4),"")} | U18: {=IFERROR(INDEX(tblEvents[],SMALL(IF(Termine=U$16,ROW(Termine)),ROW(2:2))-TabellenzeileStart,4),"")}
F19: {=IFERROR(INDEX(tblEvents[],SMALL(IF(Termine=F$16,ROW(Termine)),ROW(3:3))-TabellenzeileStart,4),"")} | I19: {=IFERROR(INDEX(tblEvents[],SMALL(IF(Termine=I$16,ROW(Termine)),ROW(3:3))-TabellenzeileStart,4),"")} | L19: {=IFERROR(INDEX(tblEvents[],SMALL(IF(Termine=L$16,ROW(Termine)),ROW(3:3))-TabellenzeileStart,4),"")} | O19: {=IFERROR(INDEX(tblEvents[],SMALL(IF(Termine=O$16,ROW(Termine)),ROW(3:3))-TabellenzeileStart,4),"")} | R19: {=IFERROR(INDEX(tblEvents[],SMALL(IF(Termine=R$16,ROW(Termine)),ROW(3:3))-TabellenzeileStart,4),"")} | U19: {=IFERROR(INDEX(tblEvents[],SMALL(IF(Termine=U$16,ROW(Termine)),ROW(3:3))-TabellenzeileStart,4),"")}
C20: {=IFERROR(INDEX(tblEvents[],SMALL(IF(Termine=C$16,ROW(Termine)),ROW(4:4))-TabellenzeileStart,4),"")} | F20: {=IFERROR(INDEX(tblEvents[],SMALL(IF(Termine=F$16,ROW(Termine)),ROW(4:4))-TabellenzeileStart,4),"")} | I20: {=IFERROR(INDEX(tblEvents[],SMALL(IF(Termine=I$16,ROW(Termine)),ROW(4:4))-TabellenzeileStart,4),"")} | L20: {=IFERROR(INDEX(tblEvents[],SMALL(IF(Termine=L$16,ROW(Termine)),ROW(4:4))-TabellenzeileStart,4),"")} | O20: {=IFERROR(INDEX(tblEvents[],SMALL(IF(Termine=O$16,ROW(Termine)),ROW(4:4))-TabellenzeileStart,4),"")} | R20: {=IFERROR(INDEX(tblEvents[],SMALL(IF(Termine=R$16,ROW(Termine)),ROW(4:4))-TabellenzeileStart,4),"")} | U20: {=IFERROR(INDEX(tblEvents[],SMALL(IF(Termine=U$16,ROW(Termine)),ROW(4:4))-TabellenzeileStart,4),"")}
C21: =U16+1 -> 45586 | F21: =C21+1 -> 45587 | I21: =F21+1 -> 45588 | L21: =I21+1 -> 45589 | O21: =L21+1 -> 45590 | R21: =O21+1 -> 45591 | U21: =R21+1 -> 45592
C22: Mittagsmeditation | F22: {=IFERROR(INDEX(tblEvents[],SMALL(IF(Termine=F$21,ROW(Termine)),ROW(1:1))-TabellenzeileStart,4),"")} | I22: orte -? | R22: {=IFERROR(INDEX(tblEvents[],SMALL(IF(Termine=R$21,ROW(Termine)),ROW(1:1))-TabellenzeileStart,4),"")} | U22: {=IFERROR(INDEX(tblEvents[],SMALL(IF(Termine=U$21,ROW(Termine)),ROW(1:1))-TabellenzeileStart,4),"")}
F23: {=IFERROR(INDEX(tblEvents[],SMALL(IF(Termine=F$21,ROW(Termine)),ROW(2:2))-TabellenzeileStart,4),"")} | O23: {=IFERROR(INDEX(tblEvents[],SMALL(IF(Termine=O$6,ROW(Termine)),ROW(17:17))-TabellenzeileStart,4),"")} | R23: {=IFERROR(INDEX(tblEvents[],SMALL(IF(Termine=R$21,ROW(Termine)),ROW(2:2))-TabellenzeileStart,4),"")} | U23: {=IFERROR(INDEX(tblEvents[],SMALL(IF(Termine=U$21,ROW(Termine)),ROW(2:2))-TabellenzeileStart,4),"")}
L24: {=IFERROR(INDEX(tblEvents[],SMALL(IF(Termine=L$21,ROW(Termine)),ROW(3:3))-TabellenzeileStart,4),"")} | O24: {=IFERROR(INDEX(tblEvents[],SMALL(IF(Termine=O$21,ROW(Termine)),ROW(3:3))-TabellenzeileStart,4),"")} | R24: {=IFERROR(INDEX(tblEvents[],SMALL(IF(Termine=R$21,ROW(Termine)),ROW(3:3))-TabellenzeileStart,4),"")} | U24: {=IFERROR(INDEX(tblEvents[],SMALL(IF(Termine=U$21,ROW(Termine)),ROW(3:3))-TabellenzeileStart,4),"")}
C25: {=IFERROR(INDEX(tblEvents[],SMALL(IF(Termine=C$21,ROW(Termine)),ROW(4:4))-TabellenzeileStart,4),"")} | F25: {=IFERROR(INDEX(tblEvents[],SMALL(IF(Termine=F$21,ROW(Termine)),ROW(4:4))-TabellenzeileStart,4),"")} | L25: {=IFERROR(INDEX(tblEvents[],SMALL(IF(Termine=L$21,ROW(Termine)),ROW(4:4))-TabellenzeileStart,4),"")} | O25: {=IFERROR(INDEX(tblEvents[],SMALL(IF(Termine=O$21,ROW(Termine)),ROW(4:4))-TabellenzeileStart,4),"")} | R25: {=IFERROR(INDEX(tblEvents[],SMALL(IF(Termine=R$21,ROW(Termine)),ROW(4:4))-TabellenzeileStart,4),"")} | U25: {=IFERROR(INDEX(tblEvents[],SMALL(IF(Termine=U$21,ROW(Termine)),ROW(4:4))-TabellenzeileStart,4),"")}
C26: =U21+1 -> 45593 | F26: =C26+1 -> 45594 | I26: =F26+1 -> 45595 | L26: =I26+1 -> 45596 | O26: =L26+1 -> 45597 | R26: =O26+1 -> 45598 | U26: =R26+1 -> 45599
C27: Mittagsmeditation | L27: K | O27: {=IFERROR(INDEX(tblEvents[],SMALL(IF(Termine=O$26,ROW(Termine)),ROW(1:1))-TabellenzeileStart,4),"")} | R27: {=IFERROR(INDEX(tblEvents[],SMALL(IF(Termine=R$26,ROW(Termine)),ROW(1:1))-TabellenzeileStart,4),"")} | U27: {=IFERROR(INDEX(tblEvents[],SMALL(IF(Termine=U$26,ROW(Termine)),ROW(1:1))-TabellenzeileStart,4),"")}
C28: {=IFERROR(INDEX(tblEvents[],SMALL(IF(Termine=C$26,ROW(Termine)),ROW(2:2))-TabellenzeileStart,4),"")} | F28: {=IFERROR(INDEX(tblEvents[],SMALL(IF(Termine=F$26,ROW(Termine)),ROW(2:2))-TabellenzeileStart,4),"")} | I28: {=IFERROR(INDEX(tblEvents[],SMALL(IF(Termine=I$26,ROW(Termine)),ROW(2:2))-TabellenzeileStart,4),"")} | L28: {=IFERROR(INDEX(tblEvents[],SMALL(IF(Termine=L$26,ROW(Termine)),ROW(2:2))-TabellenzeileStart,4),"")} | O28: {=IFERROR(INDEX(tblEvents[],SMALL(IF(Termine=O$26,ROW(Termine)),ROW(2:2))-TabellenzeileStart,4),"")} | R28: {=IFERROR(INDEX(tblEvents[],SMALL(IF(Termine=R$26,ROW(Termine)),ROW(2:2))-TabellenzeileStart,4),"")} | U28: {=IFERROR(INDEX(tblEvents[],SMALL(IF(Termine=U$26,ROW(Termine)),ROW(2:2))-TabellenzeileStart,4),"")}
C29: {=IFERROR(INDEX(tblEvents[],SMALL(IF(Termine=C$26,ROW(Termine)),ROW(3:3))-TabellenzeileStart,4),"")} | F29: {=IFERROR(INDEX(tblEvents[],SMALL(IF(Termine=F$26,ROW(Termine)),ROW(3:3))-TabellenzeileStart,4),"")} | I29: {=IFERROR(INDEX(tblEvents[],SMALL(IF(Termine=I$26,ROW(Termine)),ROW(3:3))-TabellenzeileStart,4),"")} | L29: {=IFERROR(INDEX(tblEvents[],SMALL(IF(Termine=L$26,ROW(Termine)),ROW(3:3))-TabellenzeileStart,4),"")} | O29: {=IFERROR(INDEX(tblEvents[],SMALL(IF(Termine=O$26,ROW(Termine)),ROW(3:3))-TabellenzeileStart,4),"")} | R29: {=IFERROR(INDEX(tblEvents[],SMALL(IF(Termine=R$26,ROW(Termine)),ROW(3:3))-TabellenzeileStart,4),"")} | U29: {=IFERROR(INDEX(tblEvents[],SMALL(IF(Termine=U$26,ROW(Termine)),ROW(3:3))-TabellenzeileStart,4),"")}
C30: {=IFERROR(INDEX(tblEvents[],SMALL(IF(Termine=C$26,ROW(Termine)),ROW(4:4))-TabellenzeileStart,4),"")} | F30: {=IFERROR(INDEX(tblEvents[],SMALL(IF(Termine=F$26,ROW(Termine)),ROW(4:4))-TabellenzeileStart,4),"")} | I30: {=IFERROR(INDEX(tblEvents[],SMALL(IF(Termine=I$26,ROW(Termine)),ROW(4:4))-TabellenzeileStart,4),"")} | L30: {=IFERROR(INDEX(tblEvents[],SMALL(IF(Termine=L$26,ROW(Termine)),ROW(4:4))-TabellenzeileStart,4),"")} | O30: {=IFERROR(INDEX(tblEvents[],SMALL(IF(Termine=O$26,ROW(Termine)),ROW(4:4))-TabellenzeileStart,4),"")} | R30: {=IFERROR(INDEX(tblEvents[],SMALL(IF(Termine=R$26,ROW(Termine)),ROW(4:4))-TabellenzeileStart,4),"")} | U30: {=IFERROR(INDEX(tblEvents[],SMALL(IF(Termine=U$26,ROW(Termine)),ROW(4:4))-TabellenzeileStart,4),"")}
C31: =U26+1 -> 45600 | F31: =C31+1 -> 45601 | I31: NOTIZEN: Promovierende-Serie; Gremienbüro Wenkel
C32: {=IFERROR(INDEX(tblEvents[],SMALL(IF(Termine=C$31,ROW(Termine)),ROW(1:1))-TabellenzeileStart,4),"")} | F32: {=IFERROR(INDEX(tblEvents[],SMALL(IF(Termine=F$31,ROW(Termine)),ROW(1:1))-TabellenzeileStart,4),"")}
C33: {=IFERROR(INDEX(tblEvents[],SMALL(IF(Termine=C$31,ROW(Termine)),ROW(2:2))-TabellenzeileStart,4),"")} | F33: {=IFERROR(INDEX(tblEvents[],SMALL(IF(Termine=F$31,ROW(Termine)),ROW(2:2))-TabellenzeileStart,4),"")}
C34: {=IFERROR(INDEX(tblEvents[],SMALL(IF(Termine=C$31,ROW(Termine)),ROW(3:3))-TabellenzeileStart,4),"")} | F34: {=IFERROR(INDEX(tblEvents[],SMALL(IF(Termine=F$31,ROW(Termine)),ROW(3:3))-TabellenzeileStart,4),"")}
C35: {=IFERROR(INDEX(tblEvents[],SMALL(IF(Termine=C$31,ROW(Termine)),ROW(4:4))-TabellenzeileStart,4),"")} | F35: {=IFERROR(INDEX(tblEvents[],SMALL(IF(Termine=F$31,ROW(Termine)),ROW(4:4))-TabellenzeileStart,4),"")}
I36: 11.04 Einführungswoche

Sheet DRUCKVERSION
C2: =ViewYear -> 2024 | F2: =ViewMonth -> OKTOBER | G2: 0 | H2: 0 | I2: 0 | J2: 0 | K2: 0 | L2: 0
C4: MO | F4: DI | I4: MI | L4: DO | O4: FR | R4: SA | U4: SO
C6: =KALENDER!C6 -> 45565 | D6: =KALENDER!D6 -> 0 | E6: =KALENDER!E6 -> 0 | F6: =KALENDER!F6 -> 45566 | G6: =KALENDER!G6 -> 0 | H6: =KALENDER!H6 -> 0 | I6: =KALENDER!I6 -> 45567 | J6: =KALENDER!J6 -> 0 | ... U6: =KALENDER!U6 -> 45571
D7: =KALENDER!D7 -> 0 | E7: =KALENDER!E7 -> 0 | G7: =KALENDER!G7 | H7: =KALENDER!H7 -> 0 | J7: =KALENDER!J7 -> 0 | K7: =KALENDER!K7 -> 0 | M7: =KALENDER!M7 -> 0 | N7: =KALENDER!N7 -> 0 | O7: =KALENDER!O7 -> 0 | P7: =KALENDER!P7 -> 0 | Q7: =KALENDER!Q7 -> 0 | S7: =KALENDER!S7 -> 0 | T7: =KALENDER!T7 -> 0 | U7: =KALENDER!U7
D8: =KALENDER!D8 -> 0 | E8: =KALENDER!E8 -> 0 | F8: =KALENDER!F8 | G8: =KALENDER!G8 -> 0 | H8: =KALENDER!H8 -> 0 | I8: =KALENDER!I8 | J8: =KALENDER!J8 -> 0 | K8: =KALENDER!K8 -> 0 | ... N8: =KALENDER!N8 -> 0 | P8: =KALENDER!P8 -> 0 | Q8: =KALENDER!Q8 -> 0 | R8: =KALENDER!R8 | S8: =KALENDER!S8 -> 0 | T8: =KALENDER!T8 -> 0 | U8: =KALENDER!U8
D9: =KALENDER!D9 -> 0 | E9: =KALENDER!E9 -> 0 | F9: =KALENDER!F9 | G9: =KALENDER!G9 -> 0 | H9: =KALENDER!H9 -> 0 | I9: =KALENDER!I9 | J9: =KALENDER!J9 -> 0 | K9: =KALENDER!K9 -> 0 | ... U9: =KALENDER!U9
D10: =KALENDER!D10 -> 0 | E10: =KALENDER!E10 -> 0 | F10: =KALENDER!F10 | G10: =KALENDER!G10 -> 0 | H10: =KALENDER!H10 -> 0 | I10: =KALENDER!I10 | J10: =KALENDER!J10 -> 0 | K10: =KALENDER!K10 -> 0 | ... N10: =KALENDER!N10 -> 0 | P10: =KALENDER!P10 -> 0 | Q10: =KALENDER!Q10 -> 0 | R10: =KALENDER!R10 | S10: =KALENDER!S10 -> 0 | T10: =KALENDER!T10 -> 0 | U10: =KALENDER!U10
C11: =KALENDER!C11 -> 45572 | D11: =KALENDER!D11 -> 0 | E11: =KALENDER!E11 -> 0 | F11: =KALENDER!F11 -> 45573 | G11: =KALENDER!G11 -> 0 | H11: =KALENDER!H11 -> 0 | I11: =KALENDER!I11 -> 45574 | J11: =KALENDER!J11 -> 0 | K11: =KALENDER!K11 -> 0 | L11: 8 | M11: =KALENDER!M11 -> 0 | N11: =KALENDER!N11 -> 0 | O11: =KALENDER!O11 -> 45576 | P11: =KALENDER!P11 -> 0 | Q11: =KALENDER!Q11 -> 0 | R11: =KALENDER!R11 -> 45577 | S11: =KALENDER!S11 -> 0 | T11: =KALENDER!T11 -> 0 | U11: =KALENDER!U11 -> 45578
C12: Mittagsimpuls | D12: =KALENDER!D12 -> 0 | E12: =KALENDER!E12 -> 0 | G12: =KALENDER!G12 -> 0 | H12: =KALENDER!H12 -> 0 | J12: =KALENDER!J12 -> 0 | K12: =KALENDER!K12 -> 0 | M12: =KALENDER!M12 -> 0 | N12: =KALENDER!N12 -> 0 | O12: MA-Versammlung zum Webrelaunch | P12: =KALENDER!P12 -> 0 | Q12: =KALENDER!Q12 -> 0 | R12: =KALENDER!R12 | S12: =KALENDER!S12 -> 0 | T12: =KALENDER!T12 -> 0 | U12: =KALENDER!U12
D13: =KALENDER!D13 -> 0 | E13: =KALENDER!E13 -> 0 | G13: =KALENDER!G13 -> 0 | H13: =KALENDER!H13 -> 0 | J13: =KALENDER!J13 -> 0 | K13: =KALENDER!K13 -> 0 | L13: =KALENDER!L13 | M13: =KALENDER!M13 -> 0 | N13: =KALENDER!N13 -> 0 | P13: =KALENDER!P13 -> 0 | Q13: =KALENDER!Q13 -> 0 | R13: =KALENDER!R13 | S13: =KALENDER!S13 -> 0 | T13: =KALENDER!T13 -> 0 | U13: =KALENDER!U13
C14: =KALENDER!C14 | D14: =KALENDER!D14 -> 0 | E14: =KALENDER!E14 -> 0 | G14: =KALENDER!G14 -> 0 | H14: =KALENDER!H14 -> 0 | I14: =KALENDER!I14 | J14: =KALENDER!J14 -> 0 | K14: =KALENDER!K14 -> 0 | M14: =KALENDER!M14 -> 0 | N14: =KALENDER!N14 -> 0 | P14: =KALENDER!P14 -> 0 | Q14: =KALENDER!Q14 -> 0 | R14: =KALENDER!R14 | S14: =KALENDER!S14 -> 0 | T14: =KALENDER!T14 -> 0 | U14: =KALENDER!U14
C15: =KALENDER!C15 | D15: =KALENDER!D15 -> 0 | E15: =KALENDER!E15 -> 0 | F15: =KALENDER!F15 | G15: =KALENDER!G15 -> 0 | H15: =KALENDER!H15 -> 0 | J15: =KALENDER!J15 -> 0 | K15: =KALENDER!K15 -> 0 | L15: =KALENDER!L15 | M15: =KALENDER!M15 -> 0 | N15: =KALENDER!N15 -> 0 | P15: =KALENDER!P15 -> 0 | Q15: =KALENDER!Q15 -> 0 | R15: =KALENDER!R15 | S15: =KALENDER!S15 -> 0 | T15: =KALENDER!T15 -> 0 | U15: =KALENDER!U15
C16: =KALENDER!C16 -> 45579 | D16: =KALENDER!D16 -> 0 | E16: =KALENDER!E16 -> 0 | F16: =KALENDER!F16 -> 45580 | G16: =KALENDER!G16 -> 0 | H16: =KALENDER!H16 -> 0 | I16: =KALENDER!I16 -> 45581 | J16: =KALENDER!J16 -> 0 | ... U16: =KALENDER!U16 -> 45585
C17: Mittagsimpuls | D17: =KALENDER!D17 -> 0 | E17: =KALENDER!E17 -> 0 | G17: =KALENDER!G17 -> 0 | J17: =KALENDER!J17 -> 0 | K17: =KALENDER!K17 -> 0 | M17: =KALENDER!M17 -> 0 | N17: =KALENDER!N17 -> 0 | P17: =KALENDER!P17 -> 0 | Q17: =KALENDER!Q17 -> 0 | R17: =KALENDER!R17 | S17: =KALENDER!S17 -> 0 | T17: =KALENDER!T17 -> 0 | U17: =KALENDER!U17
D18: =KALENDER!D18 -> 0 | E18: =KALENDER!E18 -> 0 | F18: =KALENDER!F18 | G18: =KALENDER!G18 -> 0 | H18: =KALENDER!H18 -> 0 | J18: =KALENDER!J18 -> 0 | K18: =KALENDER!K18 -> 0 | M18: =KALENDER!M18 -> 0 | N18: =KALENDER!N18 -> 0 | O18: =KALENDER!O18 -> 0 | P18: =KALENDER!P18 -> 0 | Q18: =KALENDER!Q18 -> 0 | R18: =KALENDER!R18 | S18: =KALENDER!S18 -> 0 | T18: =KALENDER!T18 -> 0 | U18: =KALENDER!U18
D19: =KALENDER!D19 -> 0 | E19: =KALENDER!E19 -> 0 | F19: =KALENDER!F19 | G19: =KALENDER!G19 -> 0 | H19: =KALENDER!H19 -> 0 | I19: =KALENDER!I19 | J19: =KALENDER!J19 -> 0 | K19: =KALENDER!K19 -> 0 | ... N19: =KALENDER!N19 -> 0 | P19: =KALENDER!P19 -> 0 | Q19: =KALENDER!Q19 -> 0 | R19: =KALENDER!R19 | S19: =KALENDER!S19 -> 0 | T19: =KALENDER!T19 -> 0 | U19: =KALENDER!U19
C20: =KALENDER!C20 | D20: =KALENDER!D20 -> 0 | E20: =KALENDER!E20 -> 0 | F20: =KALENDER!F20 | G20: =KALENDER!G20 -> 0 | H20: =KALENDER!H20 -> 0 | I20: =KALENDER!I20 | J20: =KALENDER!J20 -> 0 | ... U20: =KALENDER!U20
C21: =KALENDER!C21 -> 45586 | D21: =KALENDER!D21 -> 0 | E21: =KALENDER!E21 -> 0 | F21: =KALENDER!F21 -> 45587 | G21: =KALENDER!G21 -> 0 | H21: =KALENDER!H21 -> 0 | I21: =KALENDER!I21 -> 45588 | J21: =KALENDER!J21 -> 0 | ... U21: =KALENDER!U21 -> 45592
C22: Mittagsimpuls | D22: =KALENDER!D22 -> 0 | E22: =KALENDER!E22 -> 0 | F22: Vernissage 15 Uhr | G22: =KALENDER!G22 -> 0 | H22: =KALENDER!H22 -> 0 | J22: =KALENDER!J22 -> 0 | K22: =KALENDER!K22 -> 0 | M22: =KALENDER!M22 -> 0 | N22: =KALENDER!N22 -> 0 | O22: =KALENDER!O22 -> 0 | P22: =KALENDER!P22 -> 0 | Q22: =KALENDER!Q22 -> 0 | R22: =KALENDER!R22 | S22: =KALENDER!S22 -> 0 | T22: =KALENDER!T22 -> 0 | U22: =KALENDER!U22
D23: =KALENDER!D23 -> 0 | E23: =KALENDER!E23 -> 0 | F23: =KALENDER!F23 | G23: =KALENDER!G23 -> 0 | H23: =KALENDER!H23 -> 0 | J23: =KALENDER!J23 -> 0 | K23: =KALENDER!K23 -> 0 | M23: =KALENDER!M23 -> 0 | N23: =KALENDER!N23 -> 0 | P23: =KALENDER!P23 -> 0 | Q23: =KALENDER!Q23 -> 0 | R23: =KALENDER!R23 | S23: =KALENDER!S23 -> 0 | T23: =KALENDER!T23 -> 0 | U23: =KALENDER!U23
D24: =KALENDER!D24 -> 0 | E24: =KALENDER!E24 -> 0 | G24: =KALENDER!G24 -> 0 | H24: =KALENDER!H24 -> 0 | J24: =KALENDER!J24 -> 0 | K24: =KALENDER!K24 -> 0 | L24: =KALENDER!L24 | M24: =KALENDER!M24 -> 0 | N24: =KALENDER!N24 -> 0 | O24: =KALENDER!O24 | P24: =KALENDER!P24 -> 0 | Q24: =KALENDER!Q24 -> 0 | ... U24: =KALENDER!U24
D25: =KALENDER!D25 -> 0 | E25: =KALENDER!E25 -> 0 | G25: =KALENDER!G25 -> 0 | H25: =KALENDER!H25 -> 0 | M25: =KALENDER!M25 -> 0 | P25: =KALENDER!P25 -> 0 | Q25: =KALENDER!Q25 -> 0 | R25: =KALENDER!R25 | S25: =KALENDER!S25 -> 0 | T25: =KALENDER!T25 -> 0 | U25: =KALENDER!U25
C26: =KALENDER!C26 -> 45593 | D26: =KALENDER!D26 -> 0 | E26: =KALENDER!E26 -> 0 | F26: =KALENDER!F26 -> 45594 | G26: =KALENDER!G26 -> 0 | H26: =KALENDER!H26 -> 0 | I26: =KALENDER!I26 -> 45595 | J26: =KALENDER!J26 -> 0 | ... U26: =KALENDER!U26 -> 45599
C27: Mittagsimpuls | D27: =KALENDER!D27 -> 0 | G27: =KALENDER!G27 -> 0 | H27: =KALENDER!H27 -> 0 | J27: =KALENDER!J27 -> 0 | K27: =KALENDER!K27 -> 0 | M27: =KALENDER!M27 -> 0 | N27: =KALENDER!N27 -> 0 | P27: =KALENDER!P27 -> 0 | Q27: =KALENDER!Q27 -> 0 | R27: =KALENDER!R27 | S27: =KALENDER!S27 -> 0 | T27: =KALENDER!T27 -> 0 | U27: =KALENDER!U27
C28: =KALENDER!C28 | D28: =KALENDER!D28 -> 0 | E28: =KALENDER!E28 -> 0 | F28: =KALENDER!F28 | G28: =KALENDER!G28 -> 0 | H28: =KALENDER!H28 -> 0 | I28: =KALENDER!I28 | J28: =KALENDER!J28 -> 0 | ... U28: =KALENDER!U28
C29: =KALENDER!C29 | D29: =KALENDER!D29 -> 0 | E29: =KALENDER!E29 -> 0 | G29: =KALENDER!G29 -> 0 | H29: =KALENDER!H29 -> 0 | J29: =KALENDER!J29 -> 0 | K29: =KALENDER!K29 -> 0 | M29: =KALENDER!M29 -> 0 | N29: =KALENDER!N29 -> 0 | P29: =KALENDER!P29 -> 0 | Q29: =KALENDER!Q29 -> 0 | R29: =KALENDER!R29 | S29: =KALENDER!S29 -> 0 | T29: =KALENDER!T29 -> 0 | U29: =KALENDER!U29
C30: =KALENDER!C30 | D30: =KALENDER!D30 -> 0 | E30: =KALENDER!E30 -> 0 | F30: =KALENDER!F30 | G30: =KALENDER!G30 -> 0 | H30: =KALENDER!H30 -> 0 | I30: =KALENDER!I30 | J30: =KALENDER!J30 -> 0 | ... U30: =KALENDER!U30
C31: =KALENDER!C31 -> 45600 | D31: =KALENDER!D31 -> 0 | E31: =KALENDER!E31 -> 0 | F31: =KALENDER!F31 -> 45601 | I31: NOTIZEN:
D32: =KALENDER!D32 -> 0 | E32: =KALENDER!E32 -> 0 | F32: =KALENDER!F32
C33: =KALENDER!C33 | D33: =KALENDER!D33 -> 0 | E33: =KALENDER!E33 -> 0 | F33: =KALENDER!F33
C34: =KALENDER!C34 | D34: =KALENDER!D34 -> 0 | E34: =KALENDER!E34 -> 0 | F34: =KALENDER!F34
C35: =KALENDER!C35 | D35: =KALENDER!D35 -> 0 | E35: =KALENDER!E35 -> 0 | F35: =KALENDER!F35
I36: 12.11. Graduiertenfeier, 13.11. Praxisbörse, 15.11.Frühstück, Butter, Segen: Frauen in der Kirche mit C. Funk, 4.12. Adventsfeier

Sheet ADMINISTRATOR
B2: MONAT | C2: NUMMER
B3: JANUAR | C3: 1
B4: FEBRUAR | C4: 2
B5: MÄRZ | C5: 3
B6: APRIL | C6: 4
B7: MAI | C7: 5
B8: JUNI | C8: 6
B9: JULI | C9: 7
B10: AUGUST | C10: 8
B11: SEPTEMBER | C11: 9
B12: OKTOBER | C12: 10
B13: NOVEMBER | C13: 11
B14: DEZEMBER | C14: 12
